Package: epiregulon.extra Version: 1.3.1 Command: /home/biocbuild/bbs-3.21-bioc/R/bin/R CMD build --keep-empty-dirs --no-resave-data epiregulon.extra StartedAt: 2025-02-19 17:09:40 -0500 (Wed, 19 Feb 2025) EndedAt: 2025-02-19 17:12:10 -0500 (Wed, 19 Feb 2025) EllapsedTime: 150.1 seconds RetCode: 0 Status: OK PackageFile: epiregulon.extra_1.3.1.tar.gz PackageFileSize: 3.467 MiB