Package: epiregulon.extra Version: 1.3.1 Command: /Library/Frameworks/R.framework/Resources/bin/R CMD INSTALL epiregulon.extra StartedAt: 2025-02-19 15:40:10 -0500 (Wed, 19 Feb 2025) EndedAt: 2025-02-19 15:40:46 -0500 (Wed, 19 Feb 2025) EllapsedTime: 35.6 seconds RetCode: 0 Status: OK