Package: epiregulon.extra Version: 1.3.1 Command: /Library/Frameworks/R.framework/Resources/bin/R CMD check --install=check:epiregulon.extra.install-out.txt --library=/Library/Frameworks/R.framework/Resources/library --no-vignettes --timings epiregulon.extra_1.3.1.tar.gz StartedAt: 2025-02-19 20:17:39 -0500 (Wed, 19 Feb 2025) EndedAt: 2025-02-19 20:22:46 -0500 (Wed, 19 Feb 2025) EllapsedTime: 307.4 seconds RetCode: 0 Status: OK CheckDir: epiregulon.extra.Rcheck Warnings: 0