Package: epiregulon.extra Version: 1.3.1 Command: rm -rf epiregulon.extra.buildbin-libdir && mkdir epiregulon.extra.buildbin-libdir && /Users/biocbuild/BBS/utils/build-universal.sh epiregulon.extra_1.3.1.tar.gz /Library/Frameworks/R.framework/Resources/bin/R epiregulon.extra.buildbin-libdir StartedAt: 2025-02-20 00:31:08 -0500 (Thu, 20 Feb 2025) EndedAt: 2025-02-20 00:31:46 -0500 (Thu, 20 Feb 2025) EllapsedTime: 38.0 seconds RetCode: 0 Status: OK PackageFile: epiregulon.extra_1.3.1.tgz PackageFileSize: 3.642 MiB