Package: epiregulon.extra Version: 1.3.1 Command: /Library/Frameworks/R.framework/Resources/bin/R CMD INSTALL epiregulon.extra StartedAt: 2025-02-19 15:25:35 -0500 (Wed, 19 Feb 2025) EndedAt: 2025-02-19 15:25:45 -0500 (Wed, 19 Feb 2025) EllapsedTime: 10.3 seconds RetCode: 0 Status: OK