Package: epimutacions Version: 1.11.0 Command: E:\biocbuild\bbs-3.21-bioc\R\bin\R.exe CMD INSTALL epimutacions StartedAt: 2025-02-20 16:54:30 -0500 (Thu, 20 Feb 2025) EndedAt: 2025-02-20 16:55:45 -0500 (Thu, 20 Feb 2025) EllapsedTime: 75.3 seconds RetCode: 0 Status: OK