Package: epimutacions Version: 1.11.0 Command: chmod a+r epimutacions -R && E:\biocbuild\bbs-3.21-bioc\R\bin\R.exe CMD build --keep-empty-dirs --no-resave-data epimutacions StartedAt: 2025-02-20 18:37:44 -0500 (Thu, 20 Feb 2025) EndedAt: 2025-02-20 18:42:35 -0500 (Thu, 20 Feb 2025) EllapsedTime: 290.2 seconds RetCode: 0 Status: OK PackageFile: epimutacions_1.11.0.tar.gz PackageFileSize: 1.622 MiB