Package: epimutacions Version: 1.11.0 Command: /home/biocbuild/bbs-3.21-bioc/R/bin/R CMD build --keep-empty-dirs --no-resave-data epimutacions StartedAt: 2025-02-20 17:22:27 -0500 (Thu, 20 Feb 2025) EndedAt: 2025-02-20 17:25:36 -0500 (Thu, 20 Feb 2025) EllapsedTime: 189.4 seconds RetCode: 0 Status: OK PackageFile: epimutacions_1.11.0.tar.gz PackageFileSize: 1.726 MiB