Package: epimutacions Version: 1.11.0 Command: /Library/Frameworks/R.framework/Resources/bin/R CMD INSTALL epimutacions StartedAt: 2025-02-20 15:27:28 -0500 (Thu, 20 Feb 2025) EndedAt: 2025-02-20 15:27:48 -0500 (Thu, 20 Feb 2025) EllapsedTime: 19.8 seconds RetCode: 0 Status: OK