Package: epigraHMM Version: 1.15.0 Command: rm -rf epigraHMM.buildbin-libdir && mkdir epigraHMM.buildbin-libdir && E:\biocbuild\bbs-3.21-bioc\R\bin\R.exe CMD INSTALL --build --library=epigraHMM.buildbin-libdir epigraHMM_1.15.0.tar.gz StartedAt: 2025-02-21 08:03:12 -0500 (Fri, 21 Feb 2025) EndedAt: 2025-02-21 08:07:07 -0500 (Fri, 21 Feb 2025) EllapsedTime: 235.0 seconds RetCode: 0 Status: OK PackageFile: epigraHMM_1.15.0.zip PackageFileSize: 2.186 MiB