Package: epigraHMM Version: 1.15.0 Command: /home/biocbuild/bbs-3.21-bioc/R/bin/R CMD build --keep-empty-dirs --no-resave-data epigraHMM StartedAt: 2025-02-19 17:09:10 -0500 (Wed, 19 Feb 2025) EndedAt: 2025-02-19 17:17:40 -0500 (Wed, 19 Feb 2025) EllapsedTime: 509.9 seconds RetCode: 0 Status: OK PackageFile: epigraHMM_1.15.0.tar.gz PackageFileSize: 725.7 KiB