Package: epigraHMM Version: 1.15.0 Command: /Library/Frameworks/R.framework/Resources/bin/R CMD check --install=check:epigraHMM.install-out.txt --library=/Library/Frameworks/R.framework/Resources/library --no-vignettes --timings epigraHMM_1.15.0.tar.gz StartedAt: 2025-02-20 20:16:27 -0500 (Thu, 20 Feb 2025) EndedAt: 2025-02-20 20:24:40 -0500 (Thu, 20 Feb 2025) EllapsedTime: 493.6 seconds RetCode: 0 Status: WARNINGS CheckDir: epigraHMM.Rcheck Warnings: 1