Package: epigraHMM Version: 1.15.0 Command: /Library/Frameworks/R.framework/Resources/bin/R CMD build --keep-empty-dirs --no-resave-data epigraHMM StartedAt: 2025-02-20 16:16:22 -0500 (Thu, 20 Feb 2025) EndedAt: 2025-02-20 16:20:26 -0500 (Thu, 20 Feb 2025) EllapsedTime: 244.5 seconds RetCode: 0 Status: OK PackageFile: epigraHMM_1.15.0.tar.gz PackageFileSize: 734.8 KiB