Package: epigenomix Version: 1.47.0 Command: E:\biocbuild\bbs-3.21-bioc\R\bin\R.exe CMD check --no-multiarch --install=check:epigenomix.install-out.txt --library=E:\biocbuild\bbs-3.21-bioc\R\library --no-vignettes --timings epigenomix_1.47.0.tar.gz StartedAt: 2025-02-20 00:53:05 -0500 (Thu, 20 Feb 2025) EndedAt: 2025-02-20 00:58:27 -0500 (Thu, 20 Feb 2025) EllapsedTime: 322.2 seconds RetCode: 0 Status: OK CheckDir: epigenomix.Rcheck Warnings: 0