Package: epigenomix Version: 1.47.0 Command: /Library/Frameworks/R.framework/Resources/bin/R CMD build --keep-empty-dirs --no-resave-data epigenomix StartedAt: 2025-02-19 16:37:01 -0500 (Wed, 19 Feb 2025) EndedAt: 2025-02-19 16:38:36 -0500 (Wed, 19 Feb 2025) EllapsedTime: 94.8 seconds RetCode: 0 Status: OK PackageFile: epigenomix_1.47.0.tar.gz PackageFileSize: 426.6 KiB