Package: epidecodeR Version: 1.16.0 Command: /Library/Frameworks/R.framework/Resources/bin/R CMD INSTALL epidecodeR StartedAt: 2025-10-13 15:49:25 -0400 (Mon, 13 Oct 2025) EndedAt: 2025-10-13 15:50:32 -0400 (Mon, 13 Oct 2025) EllapsedTime: 67.5 seconds RetCode: 0 Status: OK