Package: epialleleR Version: 1.15.1 Command: E:\biocbuild\bbs-3.21-bioc\R\bin\R.exe CMD INSTALL epialleleR StartedAt: 2025-02-19 15:36:58 -0500 (Wed, 19 Feb 2025) EndedAt: 2025-02-19 15:38:37 -0500 (Wed, 19 Feb 2025) EllapsedTime: 99.1 seconds RetCode: 0 Status: OK