Package: epiNEM Version: 1.31.0 Command: E:\biocbuild\bbs-3.21-bioc\R\bin\R.exe CMD INSTALL epiNEM StartedAt: 2025-02-19 16:50:25 -0500 (Wed, 19 Feb 2025) EndedAt: 2025-02-19 16:51:00 -0500 (Wed, 19 Feb 2025) EllapsedTime: 34.6 seconds RetCode: 0 Status: OK