Package: epiNEM Version: 1.31.0 Command: /Library/Frameworks/R.framework/Resources/bin/R CMD INSTALL epiNEM StartedAt: 2025-02-19 15:40:33 -0500 (Wed, 19 Feb 2025) EndedAt: 2025-02-19 15:40:56 -0500 (Wed, 19 Feb 2025) EllapsedTime: 23.0 seconds RetCode: 0 Status: OK