Package: epiNEM Version: 1.31.0 Command: rm -rf epiNEM.buildbin-libdir && mkdir epiNEM.buildbin-libdir && /Users/biocbuild/BBS/utils/build-universal.sh epiNEM_1.31.0.tar.gz /Library/Frameworks/R.framework/Resources/bin/R epiNEM.buildbin-libdir StartedAt: 2025-02-20 00:31:05 -0500 (Thu, 20 Feb 2025) EndedAt: 2025-02-20 00:31:30 -0500 (Thu, 20 Feb 2025) EllapsedTime: 25.3 seconds RetCode: 0 Status: OK PackageFile: epiNEM_1.31.0.tgz PackageFileSize: 2.608 MiB