Package: ensembldb Version: 2.31.0 Command: E:\biocbuild\bbs-3.21-bioc\R\bin\R.exe CMD INSTALL ensembldb StartedAt: 2025-02-18 16:20:33 -0500 (Tue, 18 Feb 2025) EndedAt: 2025-02-18 16:21:57 -0500 (Tue, 18 Feb 2025) EllapsedTime: 84.5 seconds RetCode: 0 Status: OK