Package: ensembldb Version: 2.31.0 Command: chmod a+r ensembldb -R && E:\biocbuild\bbs-3.21-bioc\R\bin\R.exe CMD build --keep-empty-dirs --no-resave-data ensembldb StartedAt: 2025-02-18 18:31:41 -0500 (Tue, 18 Feb 2025) EndedAt: 2025-02-18 18:34:35 -0500 (Tue, 18 Feb 2025) EllapsedTime: 174.1 seconds RetCode: 0 Status: OK PackageFile: ensembldb_2.31.0.tar.gz PackageFileSize: 3.116 MiB