Package: ensembldb Version: 2.31.0 Command: rm -rf ensembldb.buildbin-libdir && mkdir ensembldb.buildbin-libdir && E:\biocbuild\bbs-3.21-bioc\R\bin\R.exe CMD INSTALL --build --library=ensembldb.buildbin-libdir ensembldb_2.31.0.tar.gz StartedAt: 2025-02-19 07:24:08 -0500 (Wed, 19 Feb 2025) EndedAt: 2025-02-19 07:26:03 -0500 (Wed, 19 Feb 2025) EllapsedTime: 115.1 seconds RetCode: 0 Status: OK PackageFile: ensembldb_2.31.0.zip PackageFileSize: 3.439 MiB