Package: ensembldb Version: 2.31.0 Command: /home/biocbuild/bbs-3.21-bioc/R/bin/R CMD build --keep-empty-dirs --no-resave-data ensembldb StartedAt: 2025-02-17 17:05:54 -0500 (Mon, 17 Feb 2025) EndedAt: 2025-02-17 17:07:43 -0500 (Mon, 17 Feb 2025) EllapsedTime: 109.2 seconds RetCode: 0 Status: OK PackageFile: ensembldb_2.31.0.tar.gz PackageFileSize: 3.374 MiB