Package: ensembldb Version: 2.31.0 Command: /Library/Frameworks/R.framework/Resources/bin/R CMD INSTALL ensembldb StartedAt: 2025-02-17 15:09:01 -0500 (Mon, 17 Feb 2025) EndedAt: 2025-02-17 15:09:18 -0500 (Mon, 17 Feb 2025) EllapsedTime: 16.2 seconds RetCode: 0 Status: OK