Package: ensembldb Version: 2.31.0 Command: /Library/Frameworks/R.framework/Resources/bin/R CMD check --install=check:ensembldb.install-out.txt --library=/Library/Frameworks/R.framework/Resources/library --no-vignettes --timings ensembldb_2.31.0.tar.gz StartedAt: 2025-02-17 19:07:58 -0500 (Mon, 17 Feb 2025) EndedAt: 2025-02-17 19:14:21 -0500 (Mon, 17 Feb 2025) EllapsedTime: 382.4 seconds RetCode: 0 Status: OK CheckDir: ensembldb.Rcheck Warnings: 0