Package: ensembldb Version: 2.31.0 Command: rm -rf ensembldb.buildbin-libdir && mkdir ensembldb.buildbin-libdir && /Users/biocbuild/BBS/utils/build-universal.sh ensembldb_2.31.0.tar.gz /Library/Frameworks/R.framework/Resources/bin/R ensembldb.buildbin-libdir StartedAt: 2025-02-17 22:16:29 -0500 (Mon, 17 Feb 2025) EndedAt: 2025-02-17 22:16:47 -0500 (Mon, 17 Feb 2025) EllapsedTime: 18.4 seconds RetCode: 0 Status: OK PackageFile: ensembldb_2.31.0.tgz PackageFileSize: 3.603 MiB