Package: enrichplot Version: 1.27.4 Command: E:\biocbuild\bbs-3.21-bioc\R\bin\R.exe CMD INSTALL enrichplot StartedAt: 2025-02-20 15:54:44 -0500 (Thu, 20 Feb 2025) EndedAt: 2025-02-20 15:55:57 -0500 (Thu, 20 Feb 2025) EllapsedTime: 72.8 seconds RetCode: 0 Status: OK