Package: enrichplot Version: 1.27.4 Command: E:\biocbuild\bbs-3.21-bioc\R\bin\R.exe CMD check --no-multiarch --install=check:enrichplot.install-out.txt --library=E:\biocbuild\bbs-3.21-bioc\R\library --no-vignettes --timings enrichplot_1.27.4.tar.gz StartedAt: 2025-02-21 01:02:07 -0500 (Fri, 21 Feb 2025) EndedAt: 2025-02-21 01:05:46 -0500 (Fri, 21 Feb 2025) EllapsedTime: 218.6 seconds RetCode: 0 Status: OK CheckDir: enrichplot.Rcheck Warnings: 0