Package: enrichplot Version: 1.27.4 Command: chmod a+r enrichplot -R && E:\biocbuild\bbs-3.21-bioc\R\bin\R.exe CMD build --keep-empty-dirs --no-resave-data enrichplot StartedAt: 2025-02-19 18:34:18 -0500 (Wed, 19 Feb 2025) EndedAt: 2025-02-19 18:34:53 -0500 (Wed, 19 Feb 2025) EllapsedTime: 35.0 seconds RetCode: 0 Status: OK PackageFile: enrichplot_1.27.4.tar.gz PackageFileSize: 96.54 KiB