Package: enrichplot Version: 1.27.4 Command: /home/biocbuild/bbs-3.21-bioc/R/bin/R CMD check --install=check:enrichplot.install-out.txt --library=/home/biocbuild/bbs-3.21-bioc/R/site-library --timings enrichplot_1.27.4.tar.gz StartedAt: 2025-02-20 21:48:39 -0500 (Thu, 20 Feb 2025) EndedAt: 2025-02-20 21:51:23 -0500 (Thu, 20 Feb 2025) EllapsedTime: 163.2 seconds RetCode: 0 Status: OK CheckDir: enrichplot.Rcheck Warnings: 0