Package: enrichplot Version: 1.27.4 Command: /home/biocbuild/bbs-3.21-bioc/R/bin/R CMD build --keep-empty-dirs --no-resave-data enrichplot StartedAt: 2025-02-20 17:21:27 -0500 (Thu, 20 Feb 2025) EndedAt: 2025-02-20 17:21:50 -0500 (Thu, 20 Feb 2025) EllapsedTime: 23.0 seconds RetCode: 0 Status: OK PackageFile: enrichplot_1.27.4.tar.gz PackageFileSize: 96.52 KiB