Package: enrichplot Version: 1.27.4 Command: /Library/Frameworks/R.framework/Resources/bin/R CMD INSTALL enrichplot StartedAt: 2025-02-19 15:31:46 -0500 (Wed, 19 Feb 2025) EndedAt: 2025-02-19 15:32:16 -0500 (Wed, 19 Feb 2025) EllapsedTime: 29.6 seconds RetCode: 0 Status: OK