Package: enrichplot Version: 1.27.4 Command: /Library/Frameworks/R.framework/Resources/bin/R CMD check --install=check:enrichplot.install-out.txt --library=/Library/Frameworks/R.framework/Resources/library --no-vignettes --timings enrichplot_1.27.4.tar.gz StartedAt: 2025-02-19 20:15:34 -0500 (Wed, 19 Feb 2025) EndedAt: 2025-02-19 20:18:38 -0500 (Wed, 19 Feb 2025) EllapsedTime: 184.8 seconds RetCode: 0 Status: OK CheckDir: enrichplot.Rcheck Warnings: 0