Package: enrichplot Version: 1.27.4 Command: /Library/Frameworks/R.framework/Resources/bin/R CMD build --keep-empty-dirs --no-resave-data enrichplot StartedAt: 2025-02-19 16:36:36 -0500 (Wed, 19 Feb 2025) EndedAt: 2025-02-19 16:37:01 -0500 (Wed, 19 Feb 2025) EllapsedTime: 25.1 seconds RetCode: 0 Status: OK PackageFile: enrichplot_1.27.4.tar.gz PackageFileSize: 96.53 KiB