Package: enrichViewNet Version: 1.5.0 Command: chmod a+r enrichViewNet -R && E:\biocbuild\bbs-3.21-bioc\R\bin\R.exe CMD build --keep-empty-dirs --no-resave-data enrichViewNet StartedAt: 2025-02-20 18:36:01 -0500 (Thu, 20 Feb 2025) EndedAt: 2025-02-20 18:37:14 -0500 (Thu, 20 Feb 2025) EllapsedTime: 72.2 seconds RetCode: 0 Status: OK PackageFile: enrichViewNet_1.5.0.tar.gz PackageFileSize: 3.402 MiB