Package: enrichViewNet Version: 1.5.0 Command: rm -rf enrichViewNet.buildbin-libdir && mkdir enrichViewNet.buildbin-libdir && E:\biocbuild\bbs-3.21-bioc\R\bin\R.exe CMD INSTALL --build --library=enrichViewNet.buildbin-libdir enrichViewNet_1.5.0.tar.gz StartedAt: 2025-02-21 08:02:49 -0500 (Fri, 21 Feb 2025) EndedAt: 2025-02-21 08:03:45 -0500 (Fri, 21 Feb 2025) EllapsedTime: 56.4 seconds RetCode: 0 Status: OK PackageFile: enrichViewNet_1.5.0.zip PackageFileSize: 2.507 MiB