Package: enrichViewNet Version: 1.5.0 Command: /home/biocbuild/bbs-3.21-bioc/R/bin/R CMD build --keep-empty-dirs --no-resave-data enrichViewNet StartedAt: 2025-02-20 17:21:31 -0500 (Thu, 20 Feb 2025) EndedAt: 2025-02-20 17:22:27 -0500 (Thu, 20 Feb 2025) EllapsedTime: 56.1 seconds RetCode: 0 Status: OK PackageFile: enrichViewNet_1.5.0.tar.gz PackageFileSize: 4.258 MiB