Package: enrichViewNet Version: 1.5.0 Command: /Library/Frameworks/R.framework/Resources/bin/R CMD INSTALL enrichViewNet StartedAt: 2025-02-20 15:35:18 -0500 (Thu, 20 Feb 2025) EndedAt: 2025-02-20 15:35:49 -0500 (Thu, 20 Feb 2025) EllapsedTime: 30.6 seconds RetCode: 0 Status: OK