Package: enrichViewNet Version: 1.5.0 Command: rm -rf enrichViewNet.buildbin-libdir && mkdir enrichViewNet.buildbin-libdir && /Users/biocbuild/BBS/utils/build-universal.sh enrichViewNet_1.5.0.tar.gz /Library/Frameworks/R.framework/Resources/bin/R enrichViewNet.buildbin-libdir StartedAt: 2025-02-21 00:29:34 -0500 (Fri, 21 Feb 2025) EndedAt: 2025-02-21 00:30:08 -0500 (Fri, 21 Feb 2025) EllapsedTime: 33.6 seconds RetCode: 0 Status: OK PackageFile: enrichViewNet_1.5.0.tgz PackageFileSize: 3.484 MiB