Package: enrichViewNet Version: 1.6.2 Command: rm -rf enrichViewNet.buildbin-libdir && mkdir enrichViewNet.buildbin-libdir && /Users/biocbuild/BBS/utils/build-universal.sh enrichViewNet_1.6.2.tar.gz /Library/Frameworks/R.framework/Resources/bin/R enrichViewNet.buildbin-libdir StartedAt: 2025-10-15 18:22:50 -0400 (Wed, 15 Oct 2025) EndedAt: 2025-10-15 18:23:22 -0400 (Wed, 15 Oct 2025) EllapsedTime: 32.0 seconds RetCode: 0 Status: OK PackageFile: enrichViewNet_1.6.2.tgz PackageFileSize: 3.5 MiB