Package: enhancerHomologSearch Version: 1.13.2 Command: /home/biocbuild/bbs-3.21-bioc/R/bin/R CMD INSTALL enhancerHomologSearch StartedAt: 2025-02-17 15:51:43 -0500 (Mon, 17 Feb 2025) EndedAt: 2025-02-17 15:56:08 -0500 (Mon, 17 Feb 2025) EllapsedTime: 265.2 seconds RetCode: 0 Status: OK