Package: enhancerHomologSearch Version: 1.13.2 Command: /home/biocbuild/bbs-3.21-bioc/R/bin/R CMD build --keep-empty-dirs --no-resave-data enhancerHomologSearch StartedAt: 2025-02-17 17:04:54 -0500 (Mon, 17 Feb 2025) EndedAt: 2025-02-17 17:17:47 -0500 (Mon, 17 Feb 2025) EllapsedTime: 773.5 seconds RetCode: 0 Status: OK PackageFile: enhancerHomologSearch_1.13.2.tar.gz PackageFileSize: 1.043 MiB