Package: enhancerHomologSearch Version: 1.13.2 Command: /Library/Frameworks/R.framework/Resources/bin/R CMD INSTALL enhancerHomologSearch StartedAt: 2025-02-17 15:22:15 -0500 (Mon, 17 Feb 2025) EndedAt: 2025-02-17 15:27:44 -0500 (Mon, 17 Feb 2025) EllapsedTime: 328.9 seconds RetCode: 0 Status: OK