Package: enhancerHomologSearch Version: 1.13.2 Command: /Library/Frameworks/R.framework/Resources/bin/R CMD check --install=check:enhancerHomologSearch.install-out.txt --library=/Library/Frameworks/R.framework/Resources/library --no-vignettes --timings enhancerHomologSearch_1.13.2.tar.gz StartedAt: 2025-02-17 20:11:07 -0500 (Mon, 17 Feb 2025) EndedAt: 2025-02-17 20:24:38 -0500 (Mon, 17 Feb 2025) EllapsedTime: 810.7 seconds RetCode: 0 Status: OK CheckDir: enhancerHomologSearch.Rcheck Warnings: 0