Package: enhancerHomologSearch Version: 1.13.2 Command: /Library/Frameworks/R.framework/Resources/bin/R CMD build --keep-empty-dirs --no-resave-data enhancerHomologSearch StartedAt: 2025-02-17 16:34:50 -0500 (Mon, 17 Feb 2025) EndedAt: 2025-02-17 16:47:59 -0500 (Mon, 17 Feb 2025) EllapsedTime: 789.1 seconds RetCode: 0 Status: OK PackageFile: enhancerHomologSearch_1.13.2.tar.gz PackageFileSize: 1.043 MiB