Package: enhancerHomologSearch Version: 1.13.2 Command: rm -rf enhancerHomologSearch.buildbin-libdir && mkdir enhancerHomologSearch.buildbin-libdir && /Users/biocbuild/BBS/utils/build-universal.sh enhancerHomologSearch_1.13.2.tar.gz /Library/Frameworks/R.framework/Resources/bin/R enhancerHomologSearch.buildbin-libdir StartedAt: 2025-02-18 00:23:34 -0500 (Tue, 18 Feb 2025) EndedAt: 2025-02-18 00:29:20 -0500 (Tue, 18 Feb 2025) EllapsedTime: 346.1 seconds RetCode: 0 Status: OK PackageFile: enhancerHomologSearch_1.13.2.tgz PackageFileSize: 1.947 MiB