Package: enhancerHomologSearch Version: 1.13.2 Command: /Library/Frameworks/R.framework/Resources/bin/R CMD INSTALL enhancerHomologSearch StartedAt: 2025-02-17 15:11:41 -0500 (Mon, 17 Feb 2025) EndedAt: 2025-02-17 15:13:08 -0500 (Mon, 17 Feb 2025) EllapsedTime: 87.1 seconds RetCode: 0 Status: OK