Package: eisaR Version: 1.19.0 Command: E:\biocbuild\bbs-3.21-bioc\R\bin\R.exe CMD INSTALL eisaR StartedAt: 2025-02-19 15:45:33 -0500 (Wed, 19 Feb 2025) EndedAt: 2025-02-19 15:46:01 -0500 (Wed, 19 Feb 2025) EllapsedTime: 27.2 seconds RetCode: 0 Status: OK