Package: eisaR Version: 1.19.0 Command: /Library/Frameworks/R.framework/Resources/bin/R CMD check --install=check:eisaR.install-out.txt --library=/Library/Frameworks/R.framework/Resources/library --no-vignettes --timings eisaR_1.19.0.tar.gz StartedAt: 2025-02-19 20:13:46 -0500 (Wed, 19 Feb 2025) EndedAt: 2025-02-19 20:17:52 -0500 (Wed, 19 Feb 2025) EllapsedTime: 245.8 seconds RetCode: 0 Status: OK CheckDir: eisaR.Rcheck Warnings: 0